BEGIN:VCALENDAR
VERSION:2.0
PRODID:-//Huis van Gebed Hemmen - ECPv6.15.19//NONSGML v1.0//EN
CALSCALE:GREGORIAN
METHOD:PUBLISH
X-ORIGINAL-URL:https://hemmen.huizenvangebedbetuwe.nl
X-WR-CALDESC:Evenementen voor Huis van Gebed Hemmen
REFRESH-INTERVAL;VALUE=DURATION:PT1H
X-Robots-Tag:noindex
X-PUBLISHED-TTL:PT1H
BEGIN:VTIMEZONE
TZID:Europe/Amsterdam
BEGIN:DAYLIGHT
TZOFFSETFROM:+0100
TZOFFSETTO:+0200
TZNAME:CEST
DTSTART:20230326T010000
END:DAYLIGHT
BEGIN:STANDARD
TZOFFSETFROM:+0200
TZOFFSETTO:+0100
TZNAME:CET
DTSTART:20231029T010000
END:STANDARD
BEGIN:DAYLIGHT
TZOFFSETFROM:+0100
TZOFFSETTO:+0200
TZNAME:CEST
DTSTART:20240331T010000
END:DAYLIGHT
BEGIN:STANDARD
TZOFFSETFROM:+0200
TZOFFSETTO:+0100
TZNAME:CET
DTSTART:20241027T010000
END:STANDARD
BEGIN:DAYLIGHT
TZOFFSETFROM:+0100
TZOFFSETTO:+0200
TZNAME:CEST
DTSTART:20250330T010000
END:DAYLIGHT
BEGIN:STANDARD
TZOFFSETFROM:+0200
TZOFFSETTO:+0100
TZNAME:CET
DTSTART:20251026T010000
END:STANDARD
END:VTIMEZONE
BEGIN:VEVENT
DTSTART;TZID=Europe/Amsterdam:20240221T083000
DTEND;TZID=Europe/Amsterdam:20240221T093000
DTSTAMP:20260421T223823
CREATED:20240208T204651Z
LAST-MODIFIED:20240212T102738Z
UID:647-1708504200-1708507800@hemmen.huizenvangebedbetuwe.nl
SUMMARY:Aanbidding en Gebed
DESCRIPTION:We nemen tijd om God te aanbidden en te bidden voor de Betuwe\, Nederland en de wereld.
URL:https://hemmen.huizenvangebedbetuwe.nl/event/aanbidding-gebed-lofprijzing-betuwe-hemmen/
LOCATION:Oude brandweerkazerne\, Dorpsstraat 6\, Hemmen\, 6672LC
END:VEVENT
END:VCALENDAR